BEGIN:VCALENDAR
VERSION:2.0
PRODID:-//Ohio Valley Pickleball Club - ECPv6.15.17//NONSGML v1.0//EN
CALSCALE:GREGORIAN
METHOD:PUBLISH
X-WR-CALNAME:Ohio Valley Pickleball Club
X-ORIGINAL-URL:https://ovpickleball.com
X-WR-CALDESC:Events for Ohio Valley Pickleball Club
REFRESH-INTERVAL;VALUE=DURATION:PT1H
X-Robots-Tag:noindex
X-PUBLISHED-TTL:PT1H
BEGIN:VTIMEZONE
TZID:America/New_York
BEGIN:DAYLIGHT
TZOFFSETFROM:-0500
TZOFFSETTO:-0400
TZNAME:EDT
DTSTART:20220313T070000
END:DAYLIGHT
BEGIN:STANDARD
TZOFFSETFROM:-0400
TZOFFSETTO:-0500
TZNAME:EST
DTSTART:20221106T060000
END:STANDARD
BEGIN:DAYLIGHT
TZOFFSETFROM:-0500
TZOFFSETTO:-0400
TZNAME:EDT
DTSTART:20230312T070000
END:DAYLIGHT
BEGIN:STANDARD
TZOFFSETFROM:-0400
TZOFFSETTO:-0500
TZNAME:EST
DTSTART:20231105T060000
END:STANDARD
BEGIN:DAYLIGHT
TZOFFSETFROM:-0500
TZOFFSETTO:-0400
TZNAME:EDT
DTSTART:20240310T070000
END:DAYLIGHT
BEGIN:STANDARD
TZOFFSETFROM:-0400
TZOFFSETTO:-0500
TZNAME:EST
DTSTART:20241103T060000
END:STANDARD
END:VTIMEZONE
BEGIN:VEVENT
DTSTART;TZID=America/New_York:20230610T090000
DTEND;TZID=America/New_York:20230610T170000
DTSTAMP:20260423T135812
CREATED:20230523T194730Z
LAST-MODIFIED:20230523T195438Z
UID:22829-1686387600-1686416400@ovpickleball.com
SUMMARY:Pickleball Cares Tournament
DESCRIPTION:It’s Tournament Time!\nSaturday June\, 10th @ the Patterson Courts\, Wheeling\, WV \nProceeds are going to improve the courts; including seating\, signage\, landscaping and more. \nEntry is $25 per person or $50 per team. \nMen’s and Women’s Divisions UNDER & OVER 50 by skill age by January 1st\, 2023 \nMen: Begin 9am (arrive 8:30)\nWomen: Begin 1pm (arrive 12:30) \nAwards for 1st\, 2nd & 3d place. Water and snacks provided. No rain date. Refunds will be issued if tournament is cancelled due to rain.
URL:https://ovpickleball.com/event/pickleball-cares-tournament/
LOCATION:Patterson Pickleplex\, 50 Sycamore Avenue\, Wheeling\, WV\, 26003\, United States
CATEGORIES:All Levels
ATTACH;FMTTYPE=image/jpeg:https://ovpickleball.com/wp-content/uploads/2023/05/pickleball-cares-flyer.jpg
END:VEVENT
BEGIN:VEVENT
DTSTART;TZID=America/New_York:20230609T174500
DTEND;TZID=America/New_York:20230609T194500
DTSTAMP:20260423T135812
CREATED:20230509T165546Z
LAST-MODIFIED:20230510T003320Z
UID:22504-1686332700-1686339900@ovpickleball.com
SUMMARY:Ohio Valley Tennis Classic Pickleball Tournament
DESCRIPTION:Open doubles\, for only 16 teams. All teams will play 4 matches. You can add the name of your partner in the registration form. First 16 teams to register will be participating. \nAwards & Hospitality T-Shirts to all entries Awards to all Finalists \nThis tournament is part of the Ohio Valley Tennis Classic\, which raises money for local high school teams. When you click register you will notice tennis divisions along with a pickleball category. Beverages & snacks provided. \nCost: $20 per person.  
URL:https://ovpickleball.com/event/ohio-valley-tennis-classic-pickleball-tournament/
LOCATION:Oglebay Horne Family Racquet Center\, 465 Lodge Dr\, Wheeling\, WV\, 26003\, United States
CATEGORIES:All Levels
ATTACH;FMTTYPE=image/jpeg:https://ovpickleball.com/wp-content/uploads/2023/05/Oglebay_Weisler-0626_web.jpg
ORGANIZER;CN="Ohio Valley Tennis - Chris Freeman":MAILTO:emily.waters@raymondjames.com
END:VEVENT
BEGIN:VEVENT
DTSTART;VALUE=DATE:20230604
DTEND;VALUE=DATE:20230730
DTSTAMP:20260423T135812
CREATED:20230508T200152Z
LAST-MODIFIED:20230522T195435Z
UID:22484-1685836800-1690675199@ovpickleball.com
SUMMARY:Doubles Pickleball Ladder Shootout
DESCRIPTION:Introducing this summers Doubles Pickleball Ladder Tournament. Each week the ladder will generate 5 player matchups based on the current weeks rankings. Each 5 person pairing will have one week to arrange a time to play a round robin with everyone playing with everyone as their partner. All games are 15 straight. Total number of points available per player is 60. The % of points earned will be the ranking system for moving up or down the ladder. Scores will be submitted no later than Saturday at 8:00pm. Pairings for the next week will be released Sunday morning. \n*** Players unable to play for a given week will need to let the ladder captain\, so that the matchups can be adjusted ahead of time. In the case that a substitute is needed it will be used to fill a position only. They will provide an opportunity for “Actual” players to post a score for the week. The subs performance doesn’t effect the absent player’s rankings. *** \n8 weeks – $40/player \nIf you would like to learn more about how a ladder league works then check out our recent article “What is a Ladder League?”.
URL:https://ovpickleball.com/event/doubles-pickleball-ladder-shootout/
LOCATION:Ohio Valley Pickleball Club\, 143 Gashell Run Road\, Triadelphia\, WV\, 26059\, United States
CATEGORIES:All Levels
ATTACH;FMTTYPE=image/png:https://ovpickleball.com/wp-content/uploads/2023/05/pickleball-serve.png
ORGANIZER;CN="Ohio Valley Pickleball Club":MAILTO:info@ovpickleball.com
END:VEVENT
BEGIN:VEVENT
DTSTART;TZID=America/New_York:20230416T083000
DTEND;TZID=America/New_York:20230416T113000
DTSTAMP:20260423T135812
CREATED:20230330T051243Z
LAST-MODIFIED:20230508T200144Z
UID:22052-1681633800-1681644600@ovpickleball.com
SUMMARY:St Paddy’s Invitational
DESCRIPTION:The First Annual St. Paddy’s Day Pickleball Invitational is a fun-filled event that celebrates St. Patrick’s Day in a unique way – by playing pickleball! This exciting tournament will bring together pickleball enthusiasts of all levels for a day of friendly competition\, laughter\, and Irish-themed festivities. Participants will enjoy multiple rounds of play in a festive and friendly atmosphere. Whether you are a seasoned pickleball player or a beginner\, this event promises to be a great opportunity to meet new friends\, showcase your skills\, and have a blast on St. Patrick’s Day. Don’t miss out on the fun – sign up today for the First Annual St. Paddy’s Day Pickleball Invitational! \nEntry is $40/person with a guaranteed 5 games and a commemorative t-shirt.
URL:https://ovpickleball.com/event/st-paddys-invitational/
LOCATION:Ohio Valley Pickleball Club\, 143 Gashell Run Road\, Triadelphia\, WV\, 26059\, United States
CATEGORIES:All Levels,Beginner
ATTACH;FMTTYPE=image/jpeg:https://ovpickleball.com/wp-content/uploads/2023/03/st-paddys-invitational.jpg
ORGANIZER;CN="Ohio Valley Pickleball Club":MAILTO:info@ovpickleball.com
END:VEVENT
END:VCALENDAR